BEGIN:VCALENDAR
VERSION:2.0
PRODID:-//LaurenAriza.com - ECPv6.15.3//NONSGML v1.0//EN
CALSCALE:GREGORIAN
METHOD:PUBLISH
X-WR-CALNAME:LaurenAriza.com
X-ORIGINAL-URL:https://laurenariza.com
X-WR-CALDESC:Events for LaurenAriza.com
REFRESH-INTERVAL;VALUE=DURATION:PT1H
X-Robots-Tag:noindex
X-PUBLISHED-TTL:PT1H
BEGIN:VTIMEZONE
TZID:America/Phoenix
BEGIN:STANDARD
TZOFFSETFROM:-0700
TZOFFSETTO:-0700
TZNAME:MST
DTSTART:20210101T000000
END:STANDARD
END:VTIMEZONE
BEGIN:VEVENT
DTSTART;VALUE=DATE:20250717
DTEND;VALUE=DATE:20250729
DTSTAMP:20260423T095851
CREATED:20250708T182657Z
LAST-MODIFIED:20250723T164110Z
UID:2593-1752710400-1753747199@laurenariza.com
SUMMARY:DIPS & DRESSINGS  7/28
DESCRIPTION:  \nTHE GOURMESS dips and dressings are back! All made in house with fresh\, primarily organic ingredients. Click “REGISTER” above  for 7/28 delivery/pick up! \n$13 per 16 oz. bottle. Venmo @Lauren-Ariza \nPick up free in Costa Mesa or delivery to Newport/Mesa area for $2 extra per delivery.
URL:https://laurenariza.com/event/dips-dressings-7-14/
LOCATION:Ariza Residence\, 1694 Iowa St\, COSTA MESA\, CA\, 92626\, United States
CATEGORIES:Order Gourmess
ORGANIZER;CN="Lauren Ariza":MAILTO:arizalauren@gmail.com
END:VEVENT
BEGIN:VEVENT
DTSTART;TZID=America/Phoenix:20240328T130000
DTEND;TZID=America/Phoenix:20240328T150000
DTSTAMP:20260423T095851
CREATED:20210524T172216Z
LAST-MODIFIED:20240318T160840Z
UID:2455-1711630800-1711638000@laurenariza.com
SUMMARY:CHICKEN TIKKA MASALA
DESCRIPTION:  \n\nChicken Tikka Masala: Yogurt Marinated\, Roasted Chicken and Peppers in a Spiced Curry Sauce. Topped with Cilantro \nSteamed Rice \nHeirloom Tomato and Cucumber Salad with Za’atar Vinaigrette \nHomemade Lavash Crisps with Hummus Duo: Black Bean & Edamame. \n**Vegan Option: Sweet Potato and Chickpea Tikka Masala \nMeals feed a family of 4-5. Delivery Available to the Costa Mesa/Newport area for $5. Pick up in Costa Mesa Available for FREE 
URL:https://laurenariza.com/event/chicken-tikka-masala/
LOCATION:CA
CATEGORIES:Order Gourmess
END:VEVENT
BEGIN:VEVENT
DTSTART;TZID=America/Phoenix:20240321T120000
DTEND;TZID=America/Phoenix:20240321T140000
DTSTAMP:20260423T095851
CREATED:20210630T154240Z
LAST-MODIFIED:20240318T155654Z
UID:2515-1711022400-1711029600@laurenariza.com
SUMMARY:BANH MI INSPIRED BOWLS
DESCRIPTION:  \nBanh Mi Inspired Bowls:  \nTurkey\, Pork\, or Lentil Meatballs with Garlic and Ginger.  \nPickled Carrots\, Shredded Napa Cabbage\, Scallions\, Limes\, Jalapeños\, Fresh Cilantro\, Roasted Peanuts\, Steamed Rice\, with a Chili Mayo Sauce and Edamame Hummus \nFresh Veggie Spring Rolls with Dipping Sauce \nFamily style meals feed 4-5 people. Delivery available to the Costa Mesa/Newport area for an additional $5. FREE Pick up in Costa Mesa Available.  \n\n\n*some ingredients may be subject to change dependent upon availability and freshness
URL:https://laurenariza.com/event/banh-mi-inspired-bowls/
LOCATION:CA
CATEGORIES:Order Gourmess
END:VEVENT
BEGIN:VEVENT
DTSTART;TZID=America/Phoenix:20240314T120000
DTEND;TZID=America/Phoenix:20240314T150000
DTSTAMP:20260423T095851
CREATED:20220307T231748Z
LAST-MODIFIED:20240308T233705Z
UID:2550-1710417600-1710428400@laurenariza.com
SUMMARY:MEZZE PLATTER AND MEDITERRANEAN STYLE SKEWERS
DESCRIPTION:Herb Marinated\, Grilled Chicken and Veggies \nLebanese Patata Salata with Parsley\, Mint\, Lemon and Garlic. \nSpicy Cucumber Salad (not pictured). \nHerbed Quinoa & Chickpeas (not pictured). \nZa’atar Flatbread with Fresh Veggies\, Olives and Dip Duo of Spicy Labneh and Roasted Garlic Hummus. \n*Can Substitute Salmon for an additional $10 \n**Vegetable Skewers and Vegan “Labneh” also available \nFamily style meals feed 4-5 people. Delivery available to the Costa Mesa/Newport area for an additional $5. FREE Pick up in Costa Mesa Available.
URL:https://laurenariza.com/event/mezze-platter-and-mediterranean-style-skewers/
LOCATION:CA
CATEGORIES:Order Gourmess
END:VEVENT
BEGIN:VEVENT
DTSTART;TZID=America/Phoenix:20240307T120000
DTEND;TZID=America/Phoenix:20240308T140000
DTSTAMP:20260423T095851
CREATED:20220307T180126Z
LAST-MODIFIED:20240301T224250Z
UID:2545-1709812800-1709906400@laurenariza.com
SUMMARY:SLOW ROASTED VERDE CHICKEN TACO SALAD BOWLS
DESCRIPTION:  \n\n  \nSlow Roasted Verde Chicken\, with Black Beans\, Roasted Corn\, Heirloom Tomato\, Cotija Cheese\, Avocado\, Fresh Radish\, Chopped Romaine\, & Crispy Tortilla Ribbons\, with house made Creamy Cilantro Dressing  \nSteamed Rice  \nChips and Salsa: House Made Salsa Verde\, Heirloom Tomato Pico De Gallo and Tortillas with Honey Butter \n**Vegan Option: Sweet Potato\, Poblano Pepper\, And Cauliflower Hash. With “Veganized” Dips\, Dressings\, and Spreads. \nFamily style meals feed 4-5 people. Delivery available to the Costa Mesa/Newport area for an additional $5. FREE Pick up in Costa Mesa Available.
URL:https://laurenariza.com/event/slow-roasted-verde-chicken-taco-bowls-2/
LOCATION:CA
CATEGORIES:Order Gourmess
END:VEVENT
BEGIN:VEVENT
DTSTART;TZID=America/Phoenix:20220323T150000
DTEND;TZID=America/Phoenix:20220323T170000
DTSTAMP:20260423T095851
CREATED:20220307T210405Z
LAST-MODIFIED:20220307T232657Z
UID:2547-1648047600-1648054800@laurenariza.com
SUMMARY:GREEN GODDESS RIGATONI WITH PEAS\, ROASTED CHICKEN\, & FRESH GREENS
DESCRIPTION:Rigatoni with Roasted Chicken\, Green Peas\, Fresh Spinach\, and House Made Green Goddess Sauce.   \nHeirloom Tomato Salad and Asparagus Salad\, with Fresh Mozzarella Bocconcini\, Basil Vinaigrette and Sliced Roasted Almonds.  \nBaguette with Olive Tapenade and White Bean Spread. \nMeals feed a family of 4-5. Delivery Available to the Costa Mesa/Newport area for an additional $10. FREE Pick up in Costa Mesa Available. \n*some ingredients may be subject to change dependent upon availability and freshness \n 
URL:https://laurenariza.com/event/green-goddess-rigatoni-with-peas-roasted-chicken-fresh-greens/
LOCATION:CA
CATEGORIES:Order Gourmess
END:VEVENT
BEGIN:VEVENT
DTSTART;TZID=America/Phoenix:20210701T120000
DTEND;TZID=America/Phoenix:20210701T170000
DTSTAMP:20260423T095851
CREATED:20210617T173649Z
LAST-MODIFIED:20210701T163430Z
UID:2507-1625140800-1625158800@laurenariza.com
SUMMARY:GREEN GODDESS RIGATONI WITH SUMMER PANZANELLA
DESCRIPTION:Rigatoni with Roasted Chicken\, Green Peas\, Fresh Spinach\, and House made Green Goddess Sauce.   \nSummer Panzanella Salad with Heirloom Tomatoes\, Grilled Corn\, Fresh Mozzarella Bocconcini and a Basil Vinaigrette. \nBaguette with Olive Tapenade and White Bean Spread. \nMeals feed a family of 4-5. Delivery Available to the Costa Mesa/Newport area. Pick up in Costa Mesa Available for $65.   \n*some ingredients may be subject to change dependent upon availability and freshness
URL:https://laurenariza.com/event/green-goddess-rigatoni-with-summer-panzanella/
LOCATION:CA
CATEGORIES:Order Gourmess
END:VEVENT
BEGIN:VEVENT
DTSTART;TZID=America/Phoenix:20210622T120000
DTEND;TZID=America/Phoenix:20210622T170000
DTSTAMP:20260423T095851
CREATED:20210526T171424Z
LAST-MODIFIED:20210701T163519Z
UID:2494-1624363200-1624381200@laurenariza.com
SUMMARY:NECTARINE & FENNEL SALAD WITH HERB MARINATED ROAST CHICKEN
DESCRIPTION:Herb Marinated and Roasted Chicken or Portobello Mushrooms. \nNectarine and Fennel Salad with Fresh Basil and Champagne Vinaigrette with Aleppo Pepper \nRoasted Veggies and Crostini with Lemon Herb Butter and White Bean Spread \nMeals feed a family of 4-5. Delivery Available to the Costa Mesa/Newport area only. Pick up in Costa Mesa Available for $65.  \n*some ingredients may be subject to change dependent upon availability and freshness
URL:https://laurenariza.com/event/nectarine-fennel-salad-with-herb-marinated-roast-chicken/
LOCATION:CA
CATEGORIES:Order Gourmess
END:VEVENT
BEGIN:VEVENT
DTSTART;TZID=America/Phoenix:20210617T000000
DTEND;TZID=America/Phoenix:20210617T000000
DTSTAMP:20260423T095852
CREATED:20210524T182814Z
LAST-MODIFIED:20210525T023421Z
UID:2468-1623888000-1623888000@laurenariza.com
SUMMARY:LEBANESE INSPIRED KEBAB PLATES
DESCRIPTION:Herb Marinated\, Grilled Chicken and Veggie Skewers \nLebanese Patata Salata with Parsley\, Mint\, Lemon and Garlic. \nSteamed Rice Pilaf. \nMezze Platter: Za’atar Flatbread\, Fresh Veggies\, and Olives with Spicy Labneh. \n*Can Substitute (or add an extra order of) Salmon for an additional $10 \n**Vegetable Skewers and “Veganized” Labneh also avaialble \nMeals feed a family of 4-5. Delivery Available to the Costa Mesa/Newport area. Pick up in Costa Mesa Available for $65.  
URL:https://laurenariza.com/event/lebanese-inspired-kebab-plates/
LOCATION:CA
CATEGORIES:Order Gourmess
END:VEVENT
BEGIN:VEVENT
DTSTART;TZID=America/Phoenix:20210615T120000
DTEND;TZID=America/Phoenix:20210615T170000
DTSTAMP:20260423T095852
CREATED:20210524T180110Z
LAST-MODIFIED:20210525T023457Z
UID:2458-1623758400-1623776400@laurenariza.com
SUMMARY:CHIMICHURRI STUFFED SWEET POTATOES
DESCRIPTION:Chimichurri Stuffed Sweet Potatoes with choice of: Chicken\, Steak\, or (vegan) Mushroom. Dressed with Mint Chimichurri and Toasted Almonds. \nTomato and Corn Summer Salad with House Made Buttermilk Ranch \nCrostini with Lemon Butter & Herbed Goat Cheese. \n**”Veganized” Dressings\, Spreads and Dips available \nMeals feed a family of 4-5. Delivery Available to the Costa Mesa/Newport area. Pick up in Costa Mesa Available for $65. 
URL:https://laurenariza.com/event/chimichurri-stuffed-sweet-potatoes/
LOCATION:CA
CATEGORIES:Order Gourmess
END:VEVENT
BEGIN:VEVENT
DTSTART;TZID=America/Phoenix:20210608T120000
DTEND;TZID=America/Phoenix:20210608T170000
DTSTAMP:20260423T095852
CREATED:20210524T163409Z
LAST-MODIFIED:20210630T154457Z
UID:2448-1623153600-1623171600@laurenariza.com
SUMMARY:SLOW ROASTED VERDE CHICKEN TACO BOWLS
DESCRIPTION:Slow Roasted Chicken Verde Taco Bowls with: \nHouse Made Salsa Verde and Creamy Cilantro Dressing\, Black Beans\, Roasted Corn\, Heirloom Tomato Pico De Gallo\, Crispy Tortilla Ribbons\, Cotija Cheese\, Avocado\, Fresh Radish\, Steamed Rice and Fresh Greens.  \nWith tortillas and honey butter \n**Vegan Option: Sweet Potato\, Poblano Pepper\, And Cauliflower Hash. With “Veganized” Dips\, Dressings\, and Spreads. \nMeals feed a family of 4-5. Delivery Available to the Costa Mesa/Newport area. Pick up in Costa Mesa Available for $65.  
URL:https://laurenariza.com/event/slow-roasted-verde-chicken-taco-bowls/
LOCATION:CA
CATEGORIES:Order Gourmess
END:VEVENT
BEGIN:VEVENT
DTSTART;TZID=America/Phoenix:20210601T120000
DTEND;TZID=America/Phoenix:20210601T170000
DTSTAMP:20260423T095852
CREATED:20210524T163340Z
LAST-MODIFIED:20210630T154448Z
UID:2441-1622548800-1622566800@laurenariza.com
SUMMARY:THE GOURMESS SALAD TRIO
DESCRIPTION:SALAD TRIO: (The Ever Favorite!) \n-Curried Chicken Salad with Endive and Pomegranate Seeds (Pictured).  \n-Shaved Brussels Sprout Salad with Sliced Green Apples\, Pepitas\, Pecorino Romano and a Champagne Vinaigrette.  \n-Farro Salad with Chopped Pistachios\, Feta\, Pickled Veggies and Za’atar Vinaigrette.  \nCrostini with Lemon Butter and Herbed Goat Cheese. \n **Vegan Option: Curried Chickpea Salad and “Veganized” Dressings\, Dips\, and Spreads. \nMeals feed a family of 4-5. Delivery Available to the Costa Mesa/Newport area. Pick up in Costa Mesa Available for $65.  
URL:https://laurenariza.com/event/salad-trio/
LOCATION:CA
CATEGORIES:Order Gourmess
END:VEVENT
END:VCALENDAR